BEGIN:VCALENDAR
VERSION:2.0
PRODID:-//Select Shows - ECPv5.4.0.2//NONSGML v1.0//EN
CALSCALE:GREGORIAN
METHOD:PUBLISH
X-WR-CALNAME:Select Shows
X-ORIGINAL-URL:https://selectshows.ca
X-WR-CALDESC:Events for Select Shows
BEGIN:VTIMEZONE
TZID:UTC
BEGIN:STANDARD
TZOFFSETFROM:+0000
TZOFFSETTO:+0000
TZNAME:UTC
DTSTART:20180101T000000
END:STANDARD
END:VTIMEZONE
BEGIN:VEVENT
DTSTART;VALUE=DATE:20180831
DTEND;VALUE=DATE:20180902
DTSTAMP:20260421T210959
CREATED:20180430T050321Z
LAST-MODIFIED:20180430T050321Z
UID:434-1535673600-1535846399@selectshows.ca
SUMMARY:Red Lake Legion Days
DESCRIPTION:
URL:https://selectshows.ca/event/red-lake-legion-days-2/
LOCATION:Red Lake Legion Days\, Red Lake\, Ontario\, Canada
END:VEVENT
END:VCALENDAR